BEGIN:VCALENDAR
VERSION:2.0
PRODID:-//Le Regard Du Cygne - ECPv6.7.0//NONSGML v1.0//EN
CALSCALE:GREGORIAN
METHOD:PUBLISH
X-WR-CALNAME:Le Regard Du Cygne
X-ORIGINAL-URL:https://leregarducygne.com
X-WR-CALDESC:Évènements pour Le Regard Du Cygne
REFRESH-INTERVAL;VALUE=DURATION:PT1H
X-Robots-Tag:noindex
X-PUBLISHED-TTL:PT1H
BEGIN:VTIMEZONE
TZID:Europe/Paris
BEGIN:DAYLIGHT
TZOFFSETFROM:+0100
TZOFFSETTO:+0200
TZNAME:CEST
DTSTART:20230326T010000
END:DAYLIGHT
BEGIN:STANDARD
TZOFFSETFROM:+0200
TZOFFSETTO:+0100
TZNAME:CET
DTSTART:20231029T010000
END:STANDARD
END:VTIMEZONE
BEGIN:VEVENT
DTSTART;TZID=Europe/Paris:20230403T140000
DTEND;TZID=Europe/Paris:20230403T170000
DTSTAMP:20260424T193931
CREATED:20230303T113949Z
LAST-MODIFIED:20230303T114720Z
UID:7819-1680530400-1680541200@leregarducygne.com
SUMMARY:Masterclasse avec Bahar Temiz
DESCRIPTION:Pour accéder à la page de l’évènement\, cliquez ici.
URL:https://leregarducygne.com/evenement/masterclasse-avec-bahar-temiz/
LOCATION:Grand Studio
CATEGORIES:Masterclasse
END:VEVENT
END:VCALENDAR