BEGIN:VCALENDAR
VERSION:2.0
PRODID:-//Le Regard Du Cygne - ECPv6.7.0//NONSGML v1.0//EN
CALSCALE:GREGORIAN
METHOD:PUBLISH
X-ORIGINAL-URL:https://leregarducygne.com
X-WR-CALDESC:Évènements pour Le Regard Du Cygne
REFRESH-INTERVAL;VALUE=DURATION:PT1H
X-Robots-Tag:noindex
X-PUBLISHED-TTL:PT1H
BEGIN:VTIMEZONE
TZID:Europe/Paris
BEGIN:DAYLIGHT
TZOFFSETFROM:+0100
TZOFFSETTO:+0200
TZNAME:CEST
DTSTART:20230326T010000
END:DAYLIGHT
BEGIN:STANDARD
TZOFFSETFROM:+0200
TZOFFSETTO:+0100
TZNAME:CET
DTSTART:20231029T010000
END:STANDARD
END:VTIMEZONE
BEGIN:VEVENT
DTSTART;TZID=Europe/Paris:20230306T140000
DTEND;TZID=Europe/Paris:20230306T170000
DTSTAMP:20260424T211143
CREATED:20230228T154346Z
LAST-MODIFIED:20230228T155548Z
UID:7775-1678111200-1678122000@leregarducygne.com
SUMMARY:Masterclasse avec Yoann Boyer
DESCRIPTION:Pour accéder à la page de l’évènement\, cliquez ici.
URL:https://leregarducygne.com/evenement/masterclasse-avec-yoann-boyer/
LOCATION:Grand Studio
CATEGORIES:Masterclasse
END:VEVENT
END:VCALENDAR