BEGIN:VCALENDAR
VERSION:2.0
PRODID:-//Le Regard Du Cygne - ECPv6.7.0//NONSGML v1.0//EN
CALSCALE:GREGORIAN
METHOD:PUBLISH
X-WR-CALNAME:Le Regard Du Cygne
X-ORIGINAL-URL:https://leregarducygne.com
X-WR-CALDESC:Évènements pour Le Regard Du Cygne
REFRESH-INTERVAL;VALUE=DURATION:PT1H
X-Robots-Tag:noindex
X-PUBLISHED-TTL:PT1H
BEGIN:VTIMEZONE
TZID:Europe/Paris
BEGIN:DAYLIGHT
TZOFFSETFROM:+0100
TZOFFSETTO:+0200
TZNAME:CEST
DTSTART:20260329T010000
END:DAYLIGHT
BEGIN:STANDARD
TZOFFSETFROM:+0200
TZOFFSETTO:+0100
TZNAME:CET
DTSTART:20261025T010000
END:STANDARD
END:VTIMEZONE
BEGIN:VEVENT
DTSTART;TZID=Europe/Paris:20260426T133000
DTEND;TZID=Europe/Paris:20260426T153000
DTSTAMP:20260421T043517
CREATED:20260302T213741Z
LAST-MODIFIED:20260420T191051Z
UID:16097-1777210200-1777217400@leregarducygne.com
SUMMARY:Ateliers - La Pas Sage – Édition n°3
DESCRIPTION:La Pas Sage – Édition n°3 organisé par La Pas Sage \nHoraire de l’événement : 13h30 – 15h30Tarif : 15€ / 20€information et réservation : lapassage.association@gmail.com / helloasso.com / instagram.com \nProfesseure : Romane Glon / DJ : Hey Bony \nAtelier de danse libre pour esprits pas sages : 40 minutes de guidage ludique et créatif\, 1 heure de DJ set live et 5 minutes de relaxation. Ouvert à tous.tes\, aucun niveau requis.
URL:https://leregarducygne.com/evenement/ateliers-la-pas-sage-edition-n3/
LOCATION:Grand Studio
END:VEVENT
BEGIN:VEVENT
DTSTART;TZID=Europe/Paris:20260426T160000
DTEND;TZID=Europe/Paris:20260426T180000
DTSTAMP:20260421T043517
CREATED:20260115T183716Z
LAST-MODIFIED:20260420T191051Z
UID:15855-1777219200-1777226400@leregarducygne.com
SUMMARY:Atelier - Sessions de Danse-Thérapie par Alizée Fraudin
DESCRIPTION:Sessions de Danse-Thérapie par Alizée Fraudin et organisées par movēre – le mouvement qui relie        Le samedi 14 février de 16h à 18hLe samedi 14 mars de 16h à 18hLe dimanche 26 avril de 16h à 18h \nDurée : 2 heures pour chaque sessionTarif : 35€ par session. 90€ le cycle de 3 sessions. Places limitées\, réservation obligatoire. \n        Information et réservation : Instagram: itsmovere Email: itsmovere@gmail.com Site: https://itsmovere.carrd.co/ \nLes sessions movēre sont des espaces de danse-thérapie pour explorer le mouvement autrement. Un temps collectif\, sans pression ni performance\, mêlant cercle de parole\, mouvement libre et temps créatif\, pour se relier à soi et aux autres.Approche certifiée par le Conseil International de la Danse (UNESCO).
URL:https://leregarducygne.com/evenement/atelier-sessions-de-danse-therapie-par-alizee-fraudin-3/
LOCATION:Grand Studio
END:VEVENT
BEGIN:VEVENT
DTSTART;TZID=Europe/Paris:20260429T200000
DTEND;TZID=Europe/Paris:20260429T210000
DTSTAMP:20260421T043517
CREATED:20260309T220650Z
LAST-MODIFIED:20260420T191051Z
UID:16139-1777492800-1777496400@leregarducygne.com
SUMMARY:Spectacle - WOLVES organisé par Allen’s Line et Présomptions de Présences
DESCRIPTION:WOLVES organisé par Allen’s Line et Présomptions de Présences \nHoraire de l’évènement : 20hDurée : 1hTarif : 15€/18€Information et réservation : marie@ciepdp.fr  Billeterie en ligne : helloasso.com \nChorégraphe : Julyen Hamilton \nAllen’s Line prend une nouvelle direction… explorant désormais la scène nue\, l’espace ouvert. Les douze années précédentes\, leurs œuvres se caractérisaient par un décor composé de nombreux objets\, disposés et manipulés comme autant de langages à part entière. L’espace et son volume sont maintenant sillonnés et transpercés par une chorégraphie de danse et une multitude de textes. \nLe texte – oh ! Le texte !Simple dans sa grammaire\, complexe dans sa forme.Des vérités et une richesse qui transparaissent.Profondeur et superficialité s’entremêlent. \n« Et quand je serai près de toi\, te chantant des histoires silencieuses\,Ma moustache se mouillera de rosée\,Mon cœur sera moins solitaire\,Et tes cheveux pousseront assez longspour qu’un tisserand puisse en faire une corde\,Et\, avec le bouffon\, nous trouverons un chemin dans cet instant présent. »
URL:https://leregarducygne.com/evenement/spectacle-wolves-organise-par-allens-line-et-presomptions-de-presences/
LOCATION:Grand Studio
END:VEVENT
END:VCALENDAR