BEGIN:VCALENDAR
VERSION:2.0
PRODID:-//Le Regard Du Cygne - ECPv6.7.0//NONSGML v1.0//EN
CALSCALE:GREGORIAN
METHOD:PUBLISH
X-WR-CALNAME:Le Regard Du Cygne
X-ORIGINAL-URL:https://leregarducygne.com
X-WR-CALDESC:Évènements pour Le Regard Du Cygne
REFRESH-INTERVAL;VALUE=DURATION:PT1H
X-Robots-Tag:noindex
X-PUBLISHED-TTL:PT1H
BEGIN:VTIMEZONE
TZID:Europe/Paris
BEGIN:DAYLIGHT
TZOFFSETFROM:+0100
TZOFFSETTO:+0200
TZNAME:CEST
DTSTART:20240331T010000
END:DAYLIGHT
BEGIN:STANDARD
TZOFFSETFROM:+0200
TZOFFSETTO:+0100
TZNAME:CET
DTSTART:20241027T010000
END:STANDARD
END:VTIMEZONE
BEGIN:VEVENT
DTSTART;TZID=Europe/Paris:20240606T090000
DTEND;TZID=Europe/Paris:20240606T100000
DTSTAMP:20260421T123309
CREATED:20231031T024344Z
LAST-MODIFIED:20231031T024344Z
UID:9580-1717664400-1717668000@leregarducygne.com
SUMMARY:Cours hebdo - Pilates
DESCRIPTION:60 minutes – Tous NiveauxCours mené par Hui-chen Association Make ItAmazing \nInfos\, tarifs etréservations : chen-pilatesyoga.com \nLe Pilates est unsystème d’exercices développé par Joseph Pilates au début du XXème siècle.Il permet derenforcer les muscles à partir du centre abdominal et dans tout le corps\, enparticulier les muscles profonds.Il permet égalementd’augmenter la souplesse\, de diminuer le stress et ainsi d’améliorer la santégénérale. Les exercices sont réalisés en portant l’attention sur larespiration\, la bonne posture et l’efficacité des mouvements.Ils sont facile àapprendre\, relativement sans risque et sans impact\, s’adressent à tout le monde.La pratique duPilates nous aide à avoir la conscience du corps\, corriger l’alignement etsoulager les douleurs physiques(bas du dos\,épaules…). Comprendre comment mieux bouger\, et ressentir les bénéfices dans lavie de tous les jours.
URL:https://leregarducygne.com/evenement/cours-hebdo-pilates-304/
LOCATION:Redcygne
END:VEVENT
BEGIN:VEVENT
DTSTART;TZID=Europe/Paris:20240606T100000
DTEND;TZID=Europe/Paris:20240606T110000
DTSTAMP:20260421T123309
CREATED:20231031T024344Z
LAST-MODIFIED:20231031T024344Z
UID:9582-1717668000-1717671600@leregarducygne.com
SUMMARY:Cours hebdo - Yoga Vinyasa doux
DESCRIPTION:60 minutes – Débutant/IntermédiaireCours mené par Hui-chenAssociation Make It Amazing Infos\, tarifs et réservations : chen-pilatesyoga.com \nVinyasaest un terme Sanskrit qui signifie synchronisation du mouvement sur larespiration.Nyasa signifie «placer » et vi signifie « d’une manière spécifique ».Le yoga Vinyasa estainsi un enchaînement de mouvements dynamiques\, initiés et harmonisés par larespiration.La transition entrechaque posture crée une fluidité dans le mouvement\, comme une chorégraphie.C’est un yoga bien créatif et libre\, l’enseignement est adaptable aux besoinsde chacun. Il développe notre conscience interne\, nous aide à retrouver le lienentre notre corps physique et notre esprit\, la pratique du Vinyasa estconsidérée comme une méditation active.
URL:https://leregarducygne.com/evenement/cours-hebdo-yoga-vinyasa-doux-62/
LOCATION:Redcygne
END:VEVENT
BEGIN:VEVENT
DTSTART;TZID=Europe/Paris:20240606T110000
DTEND;TZID=Europe/Paris:20240606T120000
DTSTAMP:20260421T123309
CREATED:20231031T024344Z
LAST-MODIFIED:20231031T024344Z
UID:9581-1717671600-1717675200@leregarducygne.com
SUMMARY:Cours hebdo - Yoga Prénatal
DESCRIPTION:60 minutes – Tous Niveaux Cours mené par Pablo Association Make It Amazing  \nInfos\, tarifs et réservations : chen-pilatesyoga.com \nLe cours vous permet de maintenir une activité physiquependant la durée de votre grossesse\, savoir ce que vous avez le droit de faireou de ne pas faire. \nLes cours s’adressent à toutes et ne nécessitent pasd’avoir une pratique antérieure de yoga. \nVous pouvez pratiquer dès le début de grossesse àl’accouchement. Vous découvrirez les mouvements les mieux adaptés à chaquetrimestre. \nC’est également un moment pour échanger nos petitesastuces ou petits bobos quotidiens. \nLA SEANCE VOUS PERMET DE: \n• Prendre conscience et renforcer sa sangle abdominale etde son périnée. \n• Soulager les tensions ou les douleurs. \n• Corriger et améliorer la posture en ré-alignant le corpsqui se transforme à mesure que le bébé grandit. \n• Gérer le stress et l’anxiété\, se détendre et d’apprendreà mieux respirer. \n• S’étirer en douceur\, être en forme.  \n• Préparer la mobilité du bassin pour aider à l’accouchement.
URL:https://leregarducygne.com/evenement/cours-hebdo-yoga-prenatal-30/
LOCATION:Redcygne
END:VEVENT
END:VCALENDAR